BEGIN:VCALENDAR
VERSION:2.0
PRODID:-//staaag.thesupportlive.com - ECPv6.3.2//NONSGML v1.0//EN
CALSCALE:GREGORIAN
METHOD:PUBLISH
X-WR-CALNAME:staaag.thesupportlive.com
X-ORIGINAL-URL:https://staaag.thesupportlive.com
X-WR-CALDESC:Events for staaag.thesupportlive.com
REFRESH-INTERVAL;VALUE=DURATION:PT1H
X-Robots-Tag:noindex
X-PUBLISHED-TTL:PT1H
BEGIN:VTIMEZONE
TZID:Asia/Kolkata
BEGIN:STANDARD
TZOFFSETFROM:+0530
TZOFFSETTO:+0530
TZNAME:IST
DTSTART:20240101T000000
END:STANDARD
END:VTIMEZONE
BEGIN:VEVENT
DTSTART;TZID=Asia/Kolkata:20241026T100000
DTEND;TZID=Asia/Kolkata:20241026T120000
DTSTAMP:20260421T002640
CREATED:20241022T133258Z
LAST-MODIFIED:20241022T133414Z
UID:6234-1729936800-1729944000@staaag.thesupportlive.com
SUMMARY:SISU Family Walk
DESCRIPTION: 
URL:https://staaag.thesupportlive.com/event/sisu-family-walk-2/
CATEGORIES:All Events
ATTACH;FMTTYPE=image/jpeg:https://staaag.thesupportlive.com/wp-content/uploads/2024/10/1398_001_page-0001-1.jpg
END:VEVENT
BEGIN:VEVENT
DTSTART;TZID=Asia/Kolkata:20240921T080000
DTEND;TZID=Asia/Kolkata:20240921T160000
DTSTAMP:20260421T002640
CREATED:20240901T144722Z
LAST-MODIFIED:20240910T123518Z
UID:5484-1726905600-1726934400@staaag.thesupportlive.com
SUMMARY:SISU Family Walk
DESCRIPTION:  \n \nWalk with SISU to share and show you care! \nJoin students from Lasalle Secondary School and walk with SISU to raise funds for a new home for seniors. \n  \nSaturday September 21\, 2024 \nWalk a 6.7 km route from Lasalle Secondary School \nOR \nWalk a senior friendly Finlandia Fitness Trail \n  \nIT’S AS EASY AS 1-2-3\nClick here to register and begin fundraising online with automated tax receipts provided to your donors: https://sisufoundation.myetap.org/fundraiser/SISUFamilyWalk2024/ \n\nRegister yourself or a team to participate and begin fundraising online\nSelf pledge or make a personal donation to kick start your fundraising\nEmail family/friends/colleagues to join in supporting your efforts\n\nIf you prefer\, visit the Hoivakoti Reception Office Monday – Friday 8 am – 4 pm to register in person and receive a pledge form to raise funds from your family and friends. All funds collected must be returned to Finlandia Village by Wednesday\, September 18\, 2024.  Taxation receipt will be generated and mailed to donors for donations received over $20.00. \n  \nNOT WALKING – NO PROBLEM\nYou can make a personal donation to show your commitment by visiting Hoivakoti Reception Office Monday – Friday 8 am – 4 pm. \n  \nMeeting Locations\nLasalle Secondary School 6.7 km walking route  CLICK HERE \nMeet at Lasalle Secondary School at 10:15 am for the opening ceremony \nOR \nTake a shuttle to Lasalle Secondary School and walk back to Finlandia – Departs Finlandia Village at 10 am \nFINLANDIA FITNESS TRAIL TREKKERS – meet outside LEPOKOTI Block F at 11:15 am for a warm up and walk onsite \n  \nBe sure to join us outdoors to cheer on the arriving walkers\, led on site to the finish line arriving at VOIMA HALL by the Greater Sudbury Police Pipe Band \nKIITOS and THANK YOU on behalf of the many seniors who call Finlandia Village their home.
URL:https://staaag.thesupportlive.com/event/sisu-family-walk/
CATEGORIES:All Events
ATTACH;FMTTYPE=image/png:https://staaag.thesupportlive.com/wp-content/uploads/2024/09/SISU-Walk-poster-2024.png
END:VEVENT
END:VCALENDAR